BEGIN:VCALENDAR
VERSION:2.0
PRODID:-//wp-events-plugin.com//6.0.1.1//EN
BEGIN:VEVENT
UID:605e8080-9f3f-4788-a9cf-d7e5ec719316
DTSTART:20260810T000000Z
DTEND:20260811T000000Z
DTSTAMP:20260402T000045Z
SUMMARY:15th International Conference on Restructuring of the Global Economy (ROGE-2026)-Promoting Sustainability
DESCRIPTION:This conference seeks to explore a wealth of issues related Business and Economic Development\, contributions should therefore be of interest to scholars\, practitioners and researchers in management in both developed and developing countries targeting a worldwide readership.
LOCATION:Said Business School\, University of Oxford\, UK\, Said Business School\, University of Oxford\, UK\, oxford\, UK\, OX1\, United Kingdom
URL:https://eventstopten.com/events/15th-international-conference-on-restructuring-of-the-global-economy-roge-2026-promoting-sustainability/
END:VEVENT
END:VCALENDAR