BEGIN:VCALENDAR
VERSION:2.0
PRODID:-//wp-events-plugin.com//6.0.1.1//EN
BEGIN:VEVENT
UID:65f464b4-49c6-43e1-8857-ad3fc4ebff03
DTSTART;VALUE=DATE:20260822
DTEND;VALUE=DATE:20260824
DTSTAMP:20260330T160026Z
SUMMARY:15th International Conference on Natural Language Processing (NLP 2026)
DESCRIPTION:15th International Conference on Natural Language Processing (NLP 2026) is a programmed approach to analyze text that is based on both a set of theories and a set of technologies. This forum aims to bring together researchers who have designed and build software that will analyze\, understand\, and generate languages that humans use naturally to address computers.
LOCATION:Dubai\, UAE\, Dubai\, Dubai\, UAE\, 0000000\, United Arab Emirates
URL:https://eventstopten.com/events/15th-international-conference-on-natural-language-processing-nlp-2026/
END:VEVENT
END:VCALENDAR