BEGIN:VCALENDAR
VERSION:2.0
PRODID:-//wp-events-plugin.com//6.0.1.1//EN
BEGIN:VEVENT
UID:b269ef8f-8183-45c5-8c0b-717f218fdaac
DTSTART;VALUE=DATE:20261028
DTEND;VALUE=DATE:20261031
DTSTAMP:20260313T110046Z
SUMMARY:15th International Conference on Nanostructures\, Nanomaterials and Nanoengineering (ICNNN 2026)
DESCRIPTION:2026 The 15th International Conference on Nanostructures\, Nanomaterials and Nanoengineering (ICNNN 2026). The conference will be held from October 28-30 in Tokyo\, Japan\, providing great opportunity for materials technology and applications participants to meet researchers in other related fields as well. In order to provide an opportunity to network with wider number of participants\, ICNNN 2026 will be co-located with 2026 The 11th International Conference on Materials Technology and Applications (ICMTA 2026).
LOCATION:Tokyo\, Tokyo\, Tokyo\, Japan\, Tokyo\, Japan
URL:https://eventstopten.com/events/15th-international-conference-on-nanostructures-nanomaterials-and-nanoengineering-icnnn-2026/
END:VEVENT
END:VCALENDAR