BEGIN:VCALENDAR
VERSION:2.0
PRODID:-//wp-events-plugin.com//6.0.1.1//EN
BEGIN:VEVENT
UID:48e8e2e6-fa5a-4b93-aad9-daf6f7d5dd45
DTSTART;VALUE=DATE:20260827
DTEND;VALUE=DATE:20260830
DTSTAMP:20260313T120036Z
SUMMARY:15th International Conference on Information Communication and Applications (ICICA 2026)
DESCRIPTION:We are pleased to invite you to attend the 15th International Conference on Information Communication and Applications (ICICA 2026)\, which will be held in University of Cambridge\, Cambridge\, UK during August 27-29\, 2026.
LOCATION:Robinson College\, University of Cambridge\, Porters' Lodge\, Robinson College\, Grange Road\, Cambridge\, CB3 9AN\, UK\, Cambridge\, UK\, CB3 9AN\, United Kingdom
URL:https://eventstopten.com/events/15th-international-conference-on-information-communication-and-applications-icica-2026/
END:VEVENT
END:VCALENDAR