BEGIN:VCALENDAR
VERSION:2.0
PRODID:-//wp-events-plugin.com//6.0.1.1//EN
BEGIN:VEVENT
UID:227c7325-d3f9-42d5-b437-fc1041fdee2a
DTSTART;VALUE=DATE:20260810
DTEND;VALUE=DATE:20260812
DTSTAMP:20260402T000044Z
SUMMARY:15th International Conference on Business and Economic Development (ICBED) - 2026
DESCRIPTION:This conference seeks to explore a wealth of issues related Business and Economic Development\, contributions should therefore be of interest to scholars\, practitioners and researchers in management in both developed and developing countries targeting a worldwide readership.
LOCATION:Said Business School\, University of Oxford\, UK\, Said Business School\, University of Oxford\, UK\, oxford\, UK\, OX1\, United Kingdom
URL:https://eventstopten.com/events/15th-international-conference-on-business-and-economic-development-icbed-2026/
END:VEVENT
END:VCALENDAR