BEGIN:VCALENDAR
VERSION:2.0
PRODID:-//wp-events-plugin.com//6.0.1.1//EN
BEGIN:VEVENT
UID:c38850b0-2b36-4f90-9e15-055815655e96
DTSTART;VALUE=DATE:20260904
DTEND;VALUE=DATE:20260908
DTSTAMP:20260313T143050Z
SUMMARY:14th International Conference on Information and Communication Networks (ICICN 2026)
DESCRIPTION:2026 the 14th International Conference on Information and Communication Networks (ICICN) is set to take place in Xi'an\, China during September 04-07\, 2026. ICICN 2026 is co-sponsored by Xi’an Jiaotong University\, IEEE Photonics Society\, IEEE\, hosted by School of Information and Communication Engineering\, Xi’an Jiaotong University\,
LOCATION:Xi'an\, Xi'an\, Xi'an\, China\, Xi'an\, China
URL:https://eventstopten.com/events/14th-international-conference-on-information-and-communication-networks-icicn-2026/
END:VEVENT
END:VCALENDAR