BEGIN:VCALENDAR
VERSION:2.0
PRODID:-//wp-events-plugin.com//6.0.1.1//EN
BEGIN:VEVENT
UID:4a90831d-0785-4666-bc7e-6e524e8ee5a7
DTSTART:20261102T210000Z
DTEND:20261103T180000Z
DTSTAMP:20260424T160138Z
SUMMARY:13th World Congress on Spine and Spinal Disorders
DESCRIPTION:Join us at the Spine and Spinal Disorders 2026 Congress\, a global platform dedicated to advancements in spine care and research. This premier event brings together spine surgeons\, researchers\, and healthcare professionals to discuss innovative surgical techniques\, emerging technologies\, and treatment strategies. Featuring keynote sessions\, workshops\, poster presentations\, and exhibitions\, it offers valuable insights\, networking opportunities\, and specialized sessions for professionals and young researchers.
LOCATION:Paris\, France\, paris france\, paris france\, NY\, 10001\, NY\, France
URL:https://eventstopten.com/events/13th-world-congress-on-spine-and-spinal-disorders/
END:VEVENT
END:VCALENDAR