BEGIN:VCALENDAR
VERSION:2.0
PRODID:-//wp-events-plugin.com//6.0.1.1//EN
BEGIN:VEVENT
UID:cd313410-4fed-4b7a-a226-fce51d913f5d
DTSTART;VALUE=DATE:20270122
DTEND;VALUE=DATE:20270125
DTSTAMP:20260424T000118Z
SUMMARY:13th International Conference on Humanity and Social Sciences (ICHSS 2027)
DESCRIPTION:2027 13th International Conference on Humanity and Social Sciences will be held in Osaka\, Japan during January 22-24. The conference is organised by National Taiwan Normal University and hosted at Kyushu University. As a premier conference\, ICHSS aims to provide a good forum for scientists\, researchers\, engineers and industrial practitioners throughout the world to present and discuss the latest technology advancement as well as future directions and trends in humanity and social sciences.
LOCATION:Ritsumeikan University - Osaka Ibaraki Campus (OIC)\, 2-150 Iwakuracho\, Ibaraki\, Osaka 567-8570 Japan\, Osaka\, Japan\, 567-8570\, Japan
URL:https://eventstopten.com/events/13th-international-conference-on-humanity-and-social-sciences-ichss-2027/
END:VEVENT
END:VCALENDAR