BEGIN:VCALENDAR
VERSION:2.0
PRODID:-//wp-events-plugin.com//6.0.1.1//EN
BEGIN:VEVENT
UID:005b2595-7be7-4567-a345-e2d645f54865
DTSTART;VALUE=DATE:20260914
DTEND;VALUE=DATE:20260917
DTSTAMP:20260401T080047Z
SUMMARY:13th International Conference on Bioinformatics Research and Applications (ICBRA 2026)
DESCRIPTION:The 13th International Conference on Bioinformatics Research and Applications (ICBRA 2026) will be held in Belfast\, UK during September 14-16\, 2026. ICBRA 2026 aims at keeping abreast of the current development and innovation in advanced bioinformatics research and applications as well as providing a platform for participants to share knowledge and expertise in bioinformatics.
LOCATION:Belfast\, Belfast\, Belfast\, UK\, Belfast\, United Kingdom
URL:https://eventstopten.com/events/13th-international-conference-on-bioinformatics-research-and-applications-icbra-2026/
END:VEVENT
END:VCALENDAR