BEGIN:VCALENDAR
VERSION:2.0
PRODID:-//wp-events-plugin.com//6.0.1.1//EN
BEGIN:VEVENT
UID:86382f74-47e8-4cd6-bc05-f85aa7e05370
DTSTART;VALUE=DATE:20270225
DTEND;VALUE=DATE:20270228
DTSTAMP:20260401T080049Z
SUMMARY:13th International Conference on Automation\, Robotics and Applications (ICARA 2027)
DESCRIPTION:The 13th International Conference on Automation\, Robotics and Applications (ICARA 2027)\, scheduled for February 25-27\, 2027 in Paris\, France will serve as a premier global forum for researchers\, engineers\, and industry leaders. This event will facilitate the exchange of cutting-edge knowledge\, presentation of groundbreaking research\, and in-depth discussions on the latest technological advancements. The conference program will comprehensively address critical domains including autonomous systems architecture\, advanced control algorithms\, cognitive robotics\, machine vision systems\, natural human-robot interaction\, and cross-industry applications.
LOCATION:Paris\, Paris\, France\, Paris\, Paris\, France
URL:https://eventstopten.com/events/13th-international-conference-on-automation-robotics-and-applications-icara-2027/
END:VEVENT
END:VCALENDAR