BEGIN:VCALENDAR
VERSION:2.0
PRODID:-//wp-events-plugin.com//6.0.1.1//EN
BEGIN:VEVENT
UID:e805a42e-0a43-435e-8d23-336a8b7551c5
DTSTART:20260822T100000Z
DTEND:20260823T170000Z
DTSTAMP:20260331T000026Z
SUMMARY:12th International Conference on Signal Processing and Pattern Recognition (SIPR 2026)
DESCRIPTION:12th International Conference on Signal Processing and Pattern Recognition (SIPR 2026) is a forum for presenting new advances and research results in the fields of Digital Processing and Pattern Recognition. The conference will bring together leading researchers\, engineers and scientists in the domain of interest from around the world.
LOCATION:Dubai\, Dubai\, Dubai\, Dubai\, Dubai\, Dubai\, United Arab Emirates
URL:https://eventstopten.com/events/12th-international-conference-on-signal-processing-and-pattern-recognition-sipr-2026/
END:VEVENT
END:VCALENDAR