BEGIN:VCALENDAR
VERSION:2.0
PRODID:-//wp-events-plugin.com//6.0.1.1//EN
BEGIN:VEVENT
UID:1c945aee-3d88-46ac-b04f-6bed4d76441f
DTSTART:20260723T090000Z
DTEND:20260724T180000Z
DTSTAMP:20260401T080045Z
SUMMARY:12th International Conference on  Gynecology and Women Health
DESCRIPTION:The 12th International Conference on Gynecology and Women Health will be held on July 23–24\, 2026\, in Paris\, France. Under the theme “Advancing Gynecology for Better Women’s Health\,” this hybrid conference offers participants the option to join in person or online\, ensuring global accessibility and engagement.\nThe conference will focus on the evolving healthcare needs of women at all stages of life\, from adolescence to postmenopause. Gynecology Congress 2026 will highlight the latest clinical practices\, research breakthroughs\, and innovative approaches in women’s health and gynecological care.
LOCATION:Hybrid\, Paris\, France\, Paris\, france\, 75015\, France
URL:https://eventstopten.com/events/12th-international-conference-on-gynecology-and-women-health/
END:VEVENT
END:VCALENDAR