BEGIN:VCALENDAR
VERSION:2.0
PRODID:-//wp-events-plugin.com//6.0.1.1//EN
BEGIN:VEVENT
UID:09eca863-b3c8-4f11-b4b8-a7895f08108f
DTSTART:20260531T100000Z
DTEND:20260531T150000Z
DTSTAMP:20260424T160138Z
SUMMARY:12th International Conference on Dentistry &amp\; Oral Health
DESCRIPTION:\n\n\nThe 12th International Conference on Dentistry &amp\; Oral Health brings together global dental professionals\, researchers\, and industry experts to explore the latest breakthroughs in digital dentistry. Join us for cutting-edge sessions\, hands-on insights\, and networking opportunities shaping the future of oral healthcare.\n\n\n
LOCATION:Singapore City\, Singapore\, Singapore City\, Singapore\, Singapore City\, Singapore\, South Carolina\, 18906\, South Carolina\, Singapore
URL:https://eventstopten.com/events/12th-international-conference-on-dentistry-oral-health/
END:VEVENT
END:VCALENDAR