BEGIN:VCALENDAR
VERSION:2.0
PRODID:-//wp-events-plugin.com//6.0.1.1//EN
BEGIN:VEVENT
UID:fdb0e209-8842-4784-a7b5-c1ea01283ed9
DTSTART;VALUE=DATE:20261113
DTEND;VALUE=DATE:20261117
DTSTAMP:20260313T083053Z
SUMMARY:12th International Conference on Communication and Information Processing (ICCIP 2026)
DESCRIPTION:2026 The 12th International Conference on Communication and Information Processing (ICCIP 2026) will significantly contribute to address the unprecedented research advances in the areas of communication &amp\; information processing. It will be held in Lingshui\, Hainan\, China during November 13-16\, 2026. It's sponsored by Beijing University of Posts and Telecommunications and Bureau of Li'an International Education Innovation Pilot Zone\, Lingshui\, Hainan\,
LOCATION:\, \, 
URL:https://eventstopten.com/events/12th-international-conference-on-communication-and-information-processing-iccip-2026/
END:VEVENT
END:VCALENDAR