BEGIN:VCALENDAR
VERSION:2.0
PRODID:-//wp-events-plugin.com//6.0.1.1//EN
BEGIN:VEVENT
UID:9810308f-3ae3-4bc7-9590-2a4cd20f4b8b
DTSTART:20260822T000000Z
DTEND:20260823T000000Z
DTSTAMP:20260330T160028Z
SUMMARY:12th International Conference of Networks\, Communications\, Wireless and Mobile Computing (NCWC 2026)
DESCRIPTION:12th International Conference of Networks\, Communications\, Wireless and Mobile Computing (NCWC 2026) looks for significant contributions to the Computer Networks\, Communications\, wireless and mobile computing for wired and wireless networks in theoretical and practical aspects. Original papers are invited on computer Networks\, network protocols and wireless networks\, Data communication Technologies\, network security and mobile computing. The goal of this Conference is to bring together researchers and practitioners from academia and industry to focus on advanced networking concepts and establishing new collaborations in these areas.
LOCATION:Dubai\, UAE\, Dubai\, UAE\, Dubai\, UAE\, Dubai\, UAE\, 1233655\, United Arab Emirates
URL:https://eventstopten.com/events/12th-international-conference-of-networks-communications-wireless-and-mobile-computing-ncwc-2026/
END:VEVENT
END:VCALENDAR