BEGIN:VCALENDAR
VERSION:2.0
PRODID:-//wp-events-plugin.com//6.0.1.1//EN
BEGIN:VEVENT
UID:8d7f49f5-7f8e-4bfd-90e0-81b93fd7999e
DTSTART:20260814T100000Z
DTEND:20260816T150000Z
DTSTAMP:20260424T080018Z
SUMMARY:12th Global Summit on Neurology &amp\; Brain Health
DESCRIPTION:\n\n\nThe 12th Global Summit on Neurology &amp\; Brain Health (Aug 14–16\, 2026\, Paris) is an international conference focused on advancements in brain science\, neurological disorders\, and emerging neurotechnologies\, bringing experts together to share research and innovations.\n\n\n
LOCATION:Salle Wagram 39-41 AV. de Wagram\,75017 Paris\, France\, Salle Wagram 39-41 AV. de Wagram\,75017 Paris\, France\, Paris\, France\, Paris\, France\, 75017\, France\, France
URL:https://eventstopten.com/events/12th-global-summit-on-neurology-brain-health/
END:VEVENT
END:VCALENDAR