BEGIN:VCALENDAR
VERSION:2.0
PRODID:-//wp-events-plugin.com//6.0.1.1//EN
BEGIN:VEVENT
UID:07a0a488-ff82-4122-a847-65125c0ecb47
DTSTART;VALUE=DATE:20260801
DTEND;VALUE=DATE:20260804
DTSTAMP:20260313T073116Z
SUMMARY:11th International Conference on Sustainable Environment and Agriculture (ICSEA 2026)
DESCRIPTION:2026 11th International Conference on Sustainable Environment and Agriculture (ICSEA 2026) will be held in Tokyo\, Japan during August 1-3\, 2026. It is one of the leading international conferences for presenting novel and fundamental advances in the fields of Sustainable Environment and Agriculture. It also serves to foster communication among researchers and practitioners working in a wide variety of scientific areas with a common interest in improving Sustainable Environment and Agriculture related techniques.
LOCATION:\, \, 
URL:https://eventstopten.com/events/11th-international-conference-on-sustainable-environment-and-agriculture-icsea-2026/
END:VEVENT
END:VCALENDAR