BEGIN:VCALENDAR
VERSION:2.0
PRODID:-//wp-events-plugin.com//6.0.1.1//EN
BEGIN:VEVENT
UID:e446d403-d5b3-43ef-9742-2e198fa3172c
DTSTART;VALUE=DATE:20261028
DTEND;VALUE=DATE:20261031
DTSTAMP:20260313T110053Z
SUMMARY:11th International Conference on Materials Technology and Applications (ICMTA 2026)
DESCRIPTION:2026 The 11th International Conference on Materials Technology and Applications (ICMTA 2026). The conference will be held from October 28 to 30\, 2026 in Tokyo\, Japan\, providing great opportunity for materials technology and applications participants to meet researchers in other related fields as well.
LOCATION:Tokyo\, Tokyo\, Tokyo\, Japan\, Tokyo\, Japan
URL:https://eventstopten.com/events/11th-international-conference-on-materials-technology-and-applications-icmta-2026/
END:VEVENT
END:VCALENDAR