BEGIN:VCALENDAR
VERSION:2.0
PRODID:-//wp-events-plugin.com//6.0.1.1//EN
BEGIN:VEVENT
UID:c5b0deaf-9f86-47a1-a00e-98fffdf0f9e2
DTSTART;VALUE=DATE:20261211
DTEND;VALUE=DATE:20261213
DTSTAMP:20260402T000047Z
SUMMARY:11th International Conference on Globalisation\, Entrepreneurship\, and Emerging Economies (ICGEEE)-2026
DESCRIPTION:This conference seeks to shine a light on a wealth of issues that are fundamental to economic development and progress and effectiveness in societies across the globe. Contributions should therefore be of interest to scholars\, practitioners\, researchers and thought leaders in both developed and developing countries targeting a worldwide readership.
LOCATION:University of London\, UK\, University of London\, UK\, LONDON\, UK\, OX1\, United Kingdom
URL:https://eventstopten.com/events/11th-international-conference-on-globalisation-entrepreneurship-and-emerging-economies-icgeee-2026/
END:VEVENT
END:VCALENDAR