BEGIN:VCALENDAR
VERSION:2.0
PRODID:-//wp-events-plugin.com//6.0.1.1//EN
BEGIN:VEVENT
UID:a60c2b4a-cbf7-4470-8d19-28f63483f846
DTSTART:20260810T000000Z
DTEND:20260811T000000Z
DTSTAMP:20260402T000046Z
SUMMARY:11th International Conference on Digital Transformation and Business Innovation (ICDTBI) - 2026
DESCRIPTION:Overview of the conference: The International Conference on Digital Transformation and Business Innovation (ICDTBI) 2025 aims to bring together leading researchers\, industry professionals\, and policymakers to discuss the transformative power of digital technologies in shaping modern business practices and strategies.
LOCATION:LONDON\, united kingdom\, LONDON\, UK\, OX1\, United Kingdom
URL:https://eventstopten.com/events/11th-international-conference-on-digital-transformation-and-business-innovation-icdtbi-2026/
END:VEVENT
END:VCALENDAR