BEGIN:VCALENDAR
VERSION:2.0
PRODID:-//wp-events-plugin.com//6.0.1.1//EN
BEGIN:VEVENT
UID:75cc4071-bab1-435e-8c55-c86cb99c18fb
DTSTART;VALUE=DATE:20261106
DTEND;VALUE=DATE:20261110
DTSTAMP:20260313T211509Z
SUMMARY:11th Asia Conference on Environment and Sustainable Development (ACESD 2026)
DESCRIPTION:2026 11th Asia Conference on Environment and Sustainable Development (ACESD 2026) will be held in Tokyo\, Japan during November 6-9\, 2026. It is sponsored by iNehc\, IJESD and technically supported by Yokohama National University\, National Institute for Environmental Studies\, Nagasaki University and Japan International Cooperation Agency.
LOCATION:Tokyo\, Tokyo\, Tokyo\, Japan\, Tokyo\, Japan
URL:https://eventstopten.com/events/11th-asia-conference-on-environment-and-sustainable-development-acesd-2026/
END:VEVENT
END:VCALENDAR