BEGIN:VCALENDAR
VERSION:2.0
PRODID:-//wp-events-plugin.com//6.0.1.1//EN
BEGIN:VEVENT
UID:79d8c196-553d-42af-895a-021a5c93dba4
DTSTART;VALUE=DATE:20261128
DTEND;VALUE=DATE:20261201
DTSTAMP:20260416T080038Z
SUMMARY:10th International Conference on Renewable Energy and Environment (ICREE 2026)
DESCRIPTION:2026 10th International Conference on Renewable Energy and Environment (ICREE 2026) will be held in Brisbane\, Australia on November 28-30\, 2026.\n\nIt delightfully welcomes all the researchers and developers to share their experience and ideas through research talks and presentations from diverse fields in renewable energy and environment. This event offers a platform in bringing together a forum for students\, postdocs and established scientists to exchange their ideas and contribute an integrative approach to renewable energy and environment.
LOCATION:Brisbane\, Brisbane\, Brisbane\, Australia\, Brisbane\, Australia
URL:https://eventstopten.com/events/10th-international-conference-on-renewable-energy-and-environment-icree-2026/
END:VEVENT
END:VCALENDAR