BEGIN:VCALENDAR
VERSION:2.0
PRODID:-//wp-events-plugin.com//6.0.1.1//EN
BEGIN:VEVENT
UID:e6d01a4c-f97a-435f-b72a-91095570eecf
DTSTART;VALUE=DATE:20261105
DTEND;VALUE=DATE:20261109
DTSTAMP:20260313T113037Z
SUMMARY:10th International Conference on Nanomaterials and Biomaterials (ICNB 2026)
DESCRIPTION:2026 10th International Conference on Nanomaterials and Biomaterials (ICNB 2026) will be held in Bangkok\, Thailand during November 5-8\, 2026.\n\nOver the past decade\, nanomaterials have been the subject of enormous interest. These materials\, notable for their extremely small feature size\, have the potential for wide-ranging industrial\, biomedical\, and electronic applications. As a result of recent improvement in technologies to see and manipulate these materials\, the nanomaterials field has seen a huge increase in funding from private enterprises and government\, and academic researchers within the field have formed many partnerships.
LOCATION:Bangkok\, Bangkok\, Bangkok\, Thailand\, Bangkok\, Thailand
URL:https://eventstopten.com/events/10th-international-conference-on-nanomaterials-and-biomaterials-icnb-2026/
END:VEVENT
END:VCALENDAR