BEGIN:VCALENDAR
VERSION:2.0
PRODID:-//wp-events-plugin.com//6.0.1.1//EN
BEGIN:VEVENT
UID:5ad3bd34-ff36-4ecd-9c07-fcc9344b1401
DTSTART;VALUE=DATE:20270310
DTEND;VALUE=DATE:20270313
DTSTAMP:20260424T000118Z
SUMMARY:10th International Conference on Information and Computer Technologies (ICICT 2027)
DESCRIPTION:The previous editions of ICICT were successfully held in Hilo-Hawaii\, Honolulu-Hawaii\, Raleigh\, New York City (virtual)\, Hawaii (virtual)\, Silicon Valley\, University of Hawaii Maui College\, Kahului\, and Northern Illinois University (NIU) DeKalb. ICICT 2027 will be located in Honolulu-Hawaii\, USA during March 10-12\, 2027.
LOCATION:Hyatt Regency Waikiki Beach Resort and Spa\, 2424 Kalākaua Ave\, Honolulu\, HI 96815\, Honolulu\, USA\, 96815\, United States
URL:https://eventstopten.com/events/10th-international-conference-on-information-and-computer-technologies-icict-2027/
END:VEVENT
END:VCALENDAR