BEGIN:VCALENDAR
VERSION:2.0
PRODID:-//wp-events-plugin.com//6.0.1.1//EN
BEGIN:VEVENT
UID:89d079c7-9be8-43f7-ba22-d7dba173af35
DTSTART;VALUE=DATE:20261022
DTEND;VALUE=DATE:20261025
DTSTAMP:20260313T074622Z
SUMMARY:10th International Conference on Building Materials and Materials Engineering (ICBMM 2026)
DESCRIPTION:2026 The 10th International Conference on Building Materials and Materials Engineering (ICBMM2026) will be held in A Coruña\, Spain during October 22-24\, 2026.\n\nWe warmly welcome scholars from all over the world to attend ICBMM2026 to share experience\, communicate thoughts and so on in person in Madrid! Hope all of you could enjoy the journey of A Coruña and have full harvest during conference!
LOCATION:\, \, 
URL:https://eventstopten.com/events/10th-international-conference-on-building-materials-and-materials-engineering-icbmm-2026/
END:VEVENT
END:VCALENDAR