BEGIN:VCALENDAR
VERSION:2.0
PRODID:-//wp-events-plugin.com//6.0.1.1//EN
BEGIN:VEVENT
UID:0e668c5e-50ff-46f9-90f7-50a35698aa23
DTSTART;VALUE=DATE:20260914
DTEND;VALUE=DATE:20260917
DTSTAMP:20260401T080046Z
SUMMARY:10th International Conference on Biomedical Engineering and Bioinformatics (ICBEB 2026)
DESCRIPTION:2026 10th International Conference on Biomedical Engineering and Bioinformatics (ICBEB 2026) will be held during September 14-16\, 2026 in Belfast\, UK. It is organized by Biology and Bioinformatics Society (BBS) under Hong Kong Chemical\, Biological &amp\; Environmental Engineering Society (HKCBEES).
LOCATION:Belfast\, Belfast\, Belfast\, UK\, Belfast\, United Kingdom
URL:https://eventstopten.com/events/10th-international-conference-on-biomedical-engineering-and-bioinformatics-icbeb-2026/
END:VEVENT
END:VCALENDAR