BEGIN:VCALENDAR
VERSION:2.0
PRODID:-//wp-events-plugin.com//6.0.1.1//EN
BEGIN:VEVENT
UID:478cb55e-1253-429a-8322-82946511929d
DTSTART;VALUE=DATE:20261016
DTEND;VALUE=DATE:20261019
DTSTAMP:20260314T110026Z
SUMMARY:10th International Conference on Automation\, Control and Robotics (ICACR 2026)
DESCRIPTION:We are pleased to announce that 2026 10th International Conference on Automation\, Control and Robotics (ICACR 2026) will be held in Nanjing\, China from October 16-18\, 2026. It's sponsored by Southeast University\, hosted by School of Mechanical Engineering\, Southeast University. This conference will bring together experts from both academic and industrial fields to exchange ideas and practices. Professionals\, experts\, managers\, and students from universities\, research institutions\, and companies are welcome to attend.
LOCATION:Nanjing\, Nanjing\, Nanjing\, China\, Nanjing\, China
URL:https://eventstopten.com/events/10th-international-conference-on-automation-control-and-robotics-icacr-2026/
END:VEVENT
END:VCALENDAR